BEGIN:VCALENDAR
VERSION:2.0
PRODID:-//wp-events-plugin.com//7.2.3.1//EN
TZID:Europe/Zurich
X-WR-TIMEZONE:Europe/Zurich
BEGIN:VEVENT
UID:70@innkick.com
DTSTART;TZID=Europe/Zurich:20251001T180000
DTEND;TZID=Europe/Zurich:20251001T193000
DTSTAMP:20250906T183046Z
URL:https://innkick.com/events/the-writers-launchpad-online-workshop/
SUMMARY:The Writer’s Launchpad - Online Workshop
DESCRIPTION:I have designed a supportive and no-pressure environment for as
 piring authors like you. Let’s get started together!
ATTACH;FMTTYPE=image/jpeg:https://innkick.com/wp-content/uploads/writers-l
 aunchpad-1.jpg
CATEGORIES:Online Events
LOCATION:https://innkick.com/events/the-writers-launchpad-online-workshop/
END:VEVENT
BEGIN:VTIMEZONE
TZID:Europe/Zurich
X-LIC-LOCATION:Europe/Zurich
BEGIN:DAYLIGHT
DTSTART:20250330T030000
TZOFFSETFROM:+0100
TZOFFSETTO:+0200
TZNAME:CEST
END:DAYLIGHT
END:VTIMEZONE
END:VCALENDAR