BEGIN:VCALENDAR
VERSION:2.0
PRODID:-//wp-events-plugin.com//7.2.3.1//EN
TZID:Europe/Zurich
X-WR-TIMEZONE:Europe/Zurich
BEGIN:VEVENT
UID:57@innkick.com
DTSTART;TZID=Europe/Zurich:20240718T183000
DTEND;TZID=Europe/Zurich:20240718T203000
DTSTAMP:20240627T212535Z
URL:https://innkick.com/events/sparking-ideas-and-building-your-business/
SUMMARY:Empowering Women Entrepreneurs: Sparking Ideas and Building Your Bu
 siness
DESCRIPTION:Let's harness the power of this season to illuminate your path\
 , guiding your business aspirations from the shadows into the sunlight.
ATTACH;FMTTYPE=image/jpeg:https://innkick.com/wp-content/uploads/Empowerin
 g-Women-Entrepreneurs.jpg
CATEGORIES:In Person Events
LOCATION:Meeting Location\, Parc des Eaux Vives\, Geneva\, Switzerland
X-APPLE-STRUCTURED-LOCATION;VALUE=URI;X-ADDRESS=Parc des Eaux Vives\, Genev
 a\, Switzerland;X-APPLE-RADIUS=100;X-TITLE=Meeting Location:geo:0,0
END:VEVENT
BEGIN:VTIMEZONE
TZID:Europe/Zurich
X-LIC-LOCATION:Europe/Zurich
BEGIN:DAYLIGHT
DTSTART:20240331T030000
TZOFFSETFROM:+0100
TZOFFSETTO:+0200
TZNAME:CEST
END:DAYLIGHT
END:VTIMEZONE
END:VCALENDAR