BEGIN:VCALENDAR
VERSION:2.0
PRODID:-//wp-events-plugin.com//7.2.3.1//EN
TZID:Europe/Zurich
X-WR-TIMEZONE:Europe/Zurich
BEGIN:VEVENT
UID:27@innkick.com
DTSTART;TZID=Europe/Zurich:20241029T173000
DTEND;TZID=Europe/Zurich:20241029T183000
DTSTAMP:20240909T170432Z
URL:https://innkick.com/events/meeting-clients-like-a-pro/
SUMMARY:Workshop: Meeting Clients Like A Pro
DESCRIPTION:This workshop is designed to help you master the art of conduct
 ing professional & effective online meetings. Sign up and impress your cli
 ents!
ATTACH;FMTTYPE=image/jpeg:https://innkick.com/wp-content/uploads/meet-clie
 nts.jpg
CATEGORIES:Online Events
LOCATION:https://innkick.com/product/the-ultimate-toolkit-for-entrepreneurs
 -6-workshops/
END:VEVENT
BEGIN:VTIMEZONE
TZID:Europe/Zurich
X-LIC-LOCATION:Europe/Zurich
BEGIN:STANDARD
DTSTART:20241027T020000
TZOFFSETFROM:+0200
TZOFFSETTO:+0100
TZNAME:CET
END:STANDARD
END:VTIMEZONE
END:VCALENDAR