BEGIN:VCALENDAR
VERSION:2.0
PRODID:-//wp-events-plugin.com//7.2.3.1//EN
TZID:Europe/Zurich
X-WR-TIMEZONE:Europe/Zurich
BEGIN:VEVENT
UID:106@innkick.com
DTSTART;TZID=Europe/Zurich:20260308T110000
DTEND;TZID=Europe/Zurich:20260308T140000
DTSTAMP:20260217T115908Z
URL:https://innkick.com/events/in-her-light-rights-equality-empowerment/
SUMMARY:In Her Light: Rights. Equality. Empowerment
DESCRIPTION:On International Women’s Day\, we invite you to slow down\, g
 ather around the table\, and create — with your hands\, your heart\, and
  your voice.
ATTACH;FMTTYPE=image/jpeg:https://innkick.com/wp-content/uploads/candle-wo
 rkshop-geneva_6.jpg
CATEGORIES:In Person Events
LOCATION:Swiss School of Business Management\, Avenue des Morgines 12\, Gen
 eva\, 1213\, Switzerland
X-APPLE-STRUCTURED-LOCATION;VALUE=URI;X-ADDRESS=Avenue des Morgines 12\, Ge
 neva\, 1213\, Switzerland;X-APPLE-RADIUS=100;X-TITLE=Swiss School of Busin
 ess Management:geo:0,0
END:VEVENT
BEGIN:VTIMEZONE
TZID:Europe/Zurich
X-LIC-LOCATION:Europe/Zurich
BEGIN:STANDARD
DTSTART:20251026T020000
TZOFFSETFROM:+0200
TZOFFSETTO:+0100
TZNAME:CET
END:STANDARD
END:VTIMEZONE
END:VCALENDAR