BEGIN:VCALENDAR
VERSION:2.0
PRODID:-//wp-events-plugin.com//7.2.3.1//EN
TZID:Europe/Zurich
X-WR-TIMEZONE:Europe/Zurich
BEGIN:VEVENT
UID:39@innkick.com
DTSTART;TZID=Europe/Zurich:20240201T183000
DTEND;TZID=Europe/Zurich:20240201T200000
DTSTAMP:20240106T091525Z
URL:https://innkick.com/events/discover-ignite-and-navigate-your-path-to-c
 larity-and-passion/
SUMMARY:Discover\, Ignite\, and Navigate: Your Path to Clarity and Passion
DESCRIPTION:Join us for an immersive workshop where the richness of wine in
 tertwines with the richness of your inner world. 
ATTACH;FMTTYPE=image/jpeg:https://innkick.com/wp-content/uploads/Your-Path
 -to-Clarity-and-Passion-workshop.jpg
CATEGORIES:In Person Events
LOCATION:Route du Velodrome 26\, Route du Velodrome 26\, Plan Les Ouates\, 
 Geneva\, Switzerland
X-APPLE-STRUCTURED-LOCATION;VALUE=URI;X-ADDRESS=Route du Velodrome 26\, Pla
 n Les Ouates\, Geneva\, Switzerland;X-APPLE-RADIUS=100;X-TITLE=Route du Ve
 lodrome 26:geo:0,0
END:VEVENT
BEGIN:VTIMEZONE
TZID:Europe/Zurich
X-LIC-LOCATION:Europe/Zurich
BEGIN:STANDARD
DTSTART:20231029T020000
TZOFFSETFROM:+0200
TZOFFSETTO:+0100
TZNAME:CET
END:STANDARD
END:VTIMEZONE
END:VCALENDAR