BEGIN:VCALENDAR
VERSION:2.0
PRODID:-//wp-events-plugin.com//7.2.3.1//EN
TZID:Europe/Zurich
X-WR-TIMEZONE:Europe/Zurich
BEGIN:VEVENT
UID:12@innkick.com
DTSTART;TZID=Europe/Zurich:20230401T103000
DTEND;TZID=Europe/Zurich:20230401T120000
DTSTAMP:20250417T083846Z
URL:https://innkick.com/events/come-share-geneva/
SUMMARY:Collective Coaching Coffee
DESCRIPTION:Feeling overwhelmed and exhausted? Cant juggle all the life cha
 llenges anymore? Professional roadblocks? Or ordinary day to day challenge
 s? Parenting getting difficult or other care responsibilities? Lets talk a
 bout life.
ATTACH;FMTTYPE=image/jpeg:https://innkick.com/wp-content/uploads/come-and-
 share-geneva.jpeg
CATEGORIES:In Person Events
LOCATION:IBIS Hotel Carouge\, https://goo.gl/maps/D4MtX2HXWLekWBGS7\, Genev
 a\, Switzerland
X-APPLE-STRUCTURED-LOCATION;VALUE=URI;X-ADDRESS=https://goo.gl/maps/D4MtX2H
 XWLekWBGS7\, Geneva\, Switzerland;X-APPLE-RADIUS=100;X-TITLE=IBIS Hotel Ca
 rouge:geo:0,0
END:VEVENT
BEGIN:VTIMEZONE
TZID:Europe/Zurich
X-LIC-LOCATION:Europe/Zurich
BEGIN:DAYLIGHT
DTSTART:20230326T030000
TZOFFSETFROM:+0100
TZOFFSETTO:+0200
TZNAME:CEST
END:DAYLIGHT
END:VTIMEZONE
END:VCALENDAR