BEGIN:VCALENDAR
VERSION:2.0
PRODID:-//wp-events-plugin.com//7.2.3.1//EN
TZID:Europe/Zurich
X-WR-TIMEZONE:Europe/Zurich
BEGIN:VEVENT
UID:103@innkick.com
DTSTART;TZID=Europe/Zurich:20260212T180000
DTEND;TZID=Europe/Zurich:20260212T200000
DTSTAMP:20260123T215556Z
URL:https://innkick.com/events/candle-workshop-a-gift-from-the-heart/
SUMMARY:Candle Workshop – A Gift from the Heart
DESCRIPTION:Join us for a Candle Workshop Experience\, where intention meet
 s creativity and where you design a candle that carries meaning\, warmth\,
  and love.
ATTACH;FMTTYPE=image/jpeg:https://innkick.com/wp-content/uploads/candle-wo
 rkshop_2.jpg
CATEGORIES:In Person Events
LOCATION:Swiss School of Business Management\, Avenue des Morgines 12\, Gen
 eva\, 1213\, Switzerland
X-APPLE-STRUCTURED-LOCATION;VALUE=URI;X-ADDRESS=Avenue des Morgines 12\, Ge
 neva\, 1213\, Switzerland;X-APPLE-RADIUS=100;X-TITLE=Swiss School of Busin
 ess Management:geo:0,0
END:VEVENT
BEGIN:VTIMEZONE
TZID:Europe/Zurich
X-LIC-LOCATION:Europe/Zurich
BEGIN:STANDARD
DTSTART:20251026T020000
TZOFFSETFROM:+0200
TZOFFSETTO:+0100
TZNAME:CET
END:STANDARD
END:VTIMEZONE
END:VCALENDAR