BEGIN:VCALENDAR
VERSION:2.0
PRODID:-//wp-events-plugin.com//7.2.3.1//EN
TZID:Europe/Zurich
X-WR-TIMEZONE:Europe/Zurich
BEGIN:VEVENT
UID:107@innkick.com
DTSTART;TZID=Europe/Zurich:20260428T183000
DTEND;TZID=Europe/Zurich:20260428T210000
DTSTAMP:20260319T102031Z
URL:https://innkick.com/events/candle-cocktail-creations-workshop/
SUMMARY:Candle & Cocktail Creations - Workshop
DESCRIPTION:No prior experience in candle making or coaching is required. J
 oin us for an evening where candles glow\, ideas flow\, and inspiration gr
 ows.
ATTACH;FMTTYPE=image/jpeg:https://innkick.com/wp-content/uploads/Candle-Co
 cktail-Creations.jpg
CATEGORIES:In Person Events
LOCATION:Swiss School of Business Management\, Avenue des Morgines 12\, Gen
 eva\, 1213\, Switzerland
X-APPLE-STRUCTURED-LOCATION;VALUE=URI;X-ADDRESS=Avenue des Morgines 12\, Ge
 neva\, 1213\, Switzerland;X-APPLE-RADIUS=100;X-TITLE=Swiss School of Busin
 ess Management:geo:0,0
END:VEVENT
BEGIN:VTIMEZONE
TZID:Europe/Zurich
X-LIC-LOCATION:Europe/Zurich
BEGIN:DAYLIGHT
DTSTART:20260329T030000
TZOFFSETFROM:+0100
TZOFFSETTO:+0200
TZNAME:CEST
END:DAYLIGHT
END:VTIMEZONE
END:VCALENDAR