BEGIN:VCALENDAR
VERSION:2.0
PRODID:-//wp-events-plugin.com//7.2.3.1//EN
TZID:Europe/Zurich
X-WR-TIMEZONE:Europe/Zurich
BEGIN:VEVENT
UID:108@innkick.com
DTSTART;TZID=Europe/Zurich:20260518T183000
DTEND;TZID=Europe/Zurich:20260519T203000
DTSTAMP:20260324T085340Z
URL:https://innkick.com/events/break-free-the-career-reset-experience/
SUMMARY:BREAK FREE: The Career Reset Experience
DESCRIPTION:This is for you if staying where you are no longer feels like a
 n option. Not a workshop. An experience. Book your spot and join us!
ATTACH;FMTTYPE=image/jpeg:https://innkick.com/wp-content/uploads/keynote-s
 peakers-for-events.jpg
CATEGORIES:In Person Events
LOCATION:Swiss School of Business Management\, Avenue des Morgines 12\, Gen
 eva\, 1213\, Switzerland
X-APPLE-STRUCTURED-LOCATION;VALUE=URI;X-ADDRESS=Avenue des Morgines 12\, Ge
 neva\, 1213\, Switzerland;X-APPLE-RADIUS=100;X-TITLE=Swiss School of Busin
 ess Management:geo:0,0
END:VEVENT
BEGIN:VTIMEZONE
TZID:Europe/Zurich
X-LIC-LOCATION:Europe/Zurich
BEGIN:DAYLIGHT
DTSTART:20260329T030000
TZOFFSETFROM:+0100
TZOFFSETTO:+0200
TZNAME:CEST
END:DAYLIGHT
END:VTIMEZONE
END:VCALENDAR